BEGIN:VCALENDAR
VERSION:2.0
PRODID:-//Communauté de Communes Touraine Ouest Val de Loire - ECPv6.15.1.1//NONSGML v1.0//EN
CALSCALE:GREGORIAN
METHOD:PUBLISH
X-WR-CALNAME:Communauté de Communes Touraine Ouest Val de Loire
X-ORIGINAL-URL:https://cctoval.fr
X-WR-CALDESC:Évènements pour Communauté de Communes Touraine Ouest Val de Loire
REFRESH-INTERVAL;VALUE=DURATION:PT1H
X-Robots-Tag:noindex
X-PUBLISHED-TTL:PT1H
BEGIN:VTIMEZONE
TZID:Europe/Paris
BEGIN:DAYLIGHT
TZOFFSETFROM:+0100
TZOFFSETTO:+0200
TZNAME:CEST
DTSTART:20260329T010000
END:DAYLIGHT
BEGIN:STANDARD
TZOFFSETFROM:+0200
TZOFFSETTO:+0100
TZNAME:CET
DTSTART:20261025T010000
END:STANDARD
END:VTIMEZONE
BEGIN:VEVENT
DTSTART;TZID=Europe/Paris:20260422T150000
DTEND;TZID=Europe/Paris:20260422T170000
DTSTAMP:20260426T022341
CREATED:20260326T132629Z
LAST-MODIFIED:20260331T100518Z
UID:10000387-1776870000-1776877200@cctoval.fr
SUMMARY:Participez à la création d'une peinture grand format
DESCRIPTION:Dans le cadre d’ateliers\, l’artiste Patrice Naturel accompagnera un groupe de personnes dans la réalisation de deux œuvres de grande taille.\nPar un système de pochoir\, les participants seront amenés à retracer les traits de la composition et à peindre les œuvres imaginées par l’intervenant. \n  \nPour tous\, de 7 à 97 ans – Aucun niveau artistique demandé – Dans le cadre du projet “Agir ensemble pour la culture”. \n  \n\nLieu : Braye-sur-Maulne\, à l’ancienne bibliothèque (à côté de la salle des fêtes)\, Place des Menus Plaisirs.\nDates : Les 22 et 29 avril ainsi que les 6 et 13 mai.\nHoraires : De 15h à 17h.\nTarif : Gratuit.\nInscription : Sur inscription par email à mlgougeon@fol37.org.\n\n  \nConsulter l’affiche
URL:https://cctoval.fr/event/participez-a-la-creation-dune-peinture-grand-format/2026-04-22/
LOCATION:Ancienne bibliothèque – Braye-sur-Maulne\, Place des Menus Plaisirs (à côté de la salle des fêtes)\, Braye-sur-Maulne\, Indre-et-Loire\, 37330\, France
CATEGORIES:Vie locale
ATTACH;FMTTYPE=image/jpeg:https://cctoval.fr/wp-content/uploads/2026/03/afficheA3-invitation-atelier-peinture_page-0001.jpg
ORGANIZER;CN="Ligue de l'enseignement":MAILTO:mlgougeon@fol37.org
END:VEVENT
BEGIN:VEVENT
DTSTART;TZID=Europe/Paris:20260416T143000
DTEND;TZID=Europe/Paris:20260416T163000
DTSTAMP:20260426T022341
CREATED:20260331T095933Z
LAST-MODIFIED:20260401T140622Z
UID:10000393-1776349800-1776357000@cctoval.fr
SUMMARY:Comité de programmation – Agir ensemble pour la culture
DESCRIPTION:Venez choisir vos films favoris pour une diffusion cet été à l’occasion de 6 soirées cinéma plein air sur le territoire. \n1er comité de programmation\, atelier “ados – seniors”\, animé avec le Truck’Ados et l’association Agévie.
URL:https://cctoval.fr/event/comite-de-programmation-agir-ensemble-pour-la-culture-3/
LOCATION:Relais Sépia – Savigné-sur-Lathan\, 45 rue des Grands Champs\, Savigné-sur-Lathan\, Indre-et-Loire\, 37340\, France
CATEGORIES:Jeunesse,Seniors,Vie locale
ATTACH;FMTTYPE=image/jpeg:https://cctoval.fr/wp-content/uploads/2026/03/affichesA3-prog-cine-Savigne.jpg
ORGANIZER;CN="Ligue de l'enseignement":MAILTO:mlgougeon@fol37.org
END:VEVENT
BEGIN:VEVENT
DTSTART;TZID=Europe/Paris:20260415T180000
DTEND;TZID=Europe/Paris:20260415T200000
DTSTAMP:20260426T022341
CREATED:20260403T135000Z
LAST-MODIFIED:20260403T135135Z
UID:10000394-1776276000-1776283200@cctoval.fr
SUMMARY:Apéro compost
DESCRIPTION:Vous êtes invités à partager un moment convivial pour découvrir et échanger autour des bonnes pratiques de compostage ! \nÉvènement gratuit\, sans inscription et ouvert à tous.
URL:https://cctoval.fr/event/apero-compost/
LOCATION:Mairie de Cinq-Mars-la-Pile\, 12\, Place de la Mairie\, Cinq-Mars-la-Pile\, Indre-et-Loire\, 37130\, France
CATEGORIES:Déchets
ATTACH;FMTTYPE=image/jpeg:https://cctoval.fr/wp-content/uploads/2026/04/A5-FLYER-Apero-Compost-148-x-210-mm.jpg
ORGANIZER;CN="CCTOVAL - p%C3%B4le pr%C3%A9vention et gestion des d%C3%A9chets":MAILTO:ambassadeurs@cctoval.fr
END:VEVENT
BEGIN:VEVENT
DTSTART;TZID=Europe/Paris:20260409T090000
DTEND;TZID=Europe/Paris:20260409T120000
DTSTAMP:20260426T022341
CREATED:20260317T143736Z
LAST-MODIFIED:20260402T151111Z
UID:10000384-1775725200-1775736000@cctoval.fr
SUMMARY:Atelier "Bien commercialiser ses produits"
DESCRIPTION:Intervenante : Karine ORANCE (consultante indépendante et dirigeante de l’Atelier K) \n  \nAu programme : \n\nComprendre ce qui fait vraiment la différence aux yeux de vos clients\nIdentifier les leviers marketing de votre TPE-PME\nDécrypter des pistes d’actions concrètes adaptées à votre entreprise\nRepartir avec une check-list d’inspirations claire directement mobilisable\n\n  \nInscription gratuite et obligatoire via le lien suivant : https://forms.gle/tT7n7q2seKprYXHc9
URL:https://cctoval.fr/event/atelier-bien-commercialiser-ses-produits/
LOCATION:Work’in Toval Langeais\, 6 place Jean Martin\, Langeais\, 37130\, France
CATEGORIES:Éco dates
ATTACH;FMTTYPE=image/jpeg:https://cctoval.fr/wp-content/uploads/2026/03/ECODATE-6-commercialiser-ses-produits.jpg
ORGANIZER;CN="CCTOVAL - p%C3%B4le d%C3%A9veloppement %C3%A9conomique":MAILTO:mpejot@cctoval.fr
END:VEVENT
BEGIN:VEVENT
DTSTART;VALUE=DATE:20260409
DTEND;VALUE=DATE:20260410
DTSTAMP:20260426T022341
CREATED:20260317T142228Z
LAST-MODIFIED:20260318T162250Z
UID:10000385-1775692800-1775779199@cctoval.fr
SUMMARY:Conseil d'installation
DESCRIPTION:
URL:https://cctoval.fr/event/conseil-dinstallation/
LOCATION:Hôtel communautaire de la CCTOVAL\, 2 rue des Sablons\, 2 rue des Sablons\, 37340\, France
CATEGORIES:CCTOVAL
ATTACH;FMTTYPE=image/png:https://cctoval.fr/wp-content/uploads/2026/02/TOVAL2.png
END:VEVENT
BEGIN:VEVENT
DTSTART;TZID=Europe/Paris:20260408T173000
DTEND;TZID=Europe/Paris:20260408T190000
DTSTAMP:20260426T022341
CREATED:20260326T130746Z
LAST-MODIFIED:20260326T131040Z
UID:10000386-1775669400-1775674800@cctoval.fr
SUMMARY:Atlas de la Biodiversité Communale (ABC)
DESCRIPTION:En plus des inventaires scientifiques\, l’ABC prévoit des animations à l’intention de la population.\nLa première d’entre elles concerne les hérissons : \n\nmieux les connaître\ndétecter leur présence dans nos jardins\nprendre soin de cette espèce en déclin\n\n  \nCette animation est destinée aussi bien aux parents qu’aux enfants. \nElle se déroulera le mercredi 8 avril\, de 17 h 30 à 19 h à Saint-Patrice\, salle du conseil municipal.\nPenser bien à vous inscrire par mail ou téléphone auprès de la mairie\, le nombre de places est limité. \nRestez informés : l’animation suivante sera consacrée aux chauves-souris cet été. \n  \nInscription obligatoire (places limitées) \n\nmairie@coteaux-sur-loire.fr\n02.47.96.98.15\n\n  \nConsulter l’affiche
URL:https://cctoval.fr/event/atlas-de-la-biodiversite-communale-abc/
LOCATION:Coteaux-sur-Loire\, 62 rue Dorothée de Dino\, Coteaux-sur-Loire\, 37130\, France
CATEGORIES:Environnement
ATTACH;FMTTYPE=image/jpeg:https://cctoval.fr/wp-content/uploads/2026/03/Affiche-Herissons-CCTOVAL.jpg
END:VEVENT
END:VCALENDAR